BEGIN:VCALENDAR
VERSION:2.0
PRODID:-//Grupo Hubel - ECPv6.9.0//NONSGML v1.0//EN
CALSCALE:GREGORIAN
METHOD:PUBLISH
X-ORIGINAL-URL:https://hubel.pt
X-WR-CALDESC:Events for Grupo Hubel
REFRESH-INTERVAL;VALUE=DURATION:PT1H
X-Robots-Tag:noindex
X-PUBLISHED-TTL:PT1H
BEGIN:VTIMEZONE
TZID:UTC
BEGIN:STANDARD
TZOFFSETFROM:+0000
TZOFFSETTO:+0000
TZNAME:UTC
DTSTART:20250101T000000
END:STANDARD
END:VTIMEZONE
BEGIN:VEVENT
DTSTART;TZID=UTC:20251118T083000
DTEND;TZID=UTC:20251118T170000
DTSTAMP:20260425T201356
CREATED:20251031T120705Z
LAST-MODIFIED:20251031T120705Z
UID:10660-1763454600-1763485200@hubel.pt
SUMMARY:Euro Tech Day - Drone Spraying & Crop Protection
DESCRIPTION:No dia 18 de novembro irá decorrer a primeira edição do Euro Tech Day\, na Quinta da Pacheca (região demarcada do Douro)\, um fórum técnico-científico dedicado à pulverização com drones. O evento reúne especialistas europeus de renome nas áreas da investigação\, regulamentação e indústria para analisar os desafios que definem o atual impasse tecnológico e regulamentar e debater construtivamente o futuro desta tecnologia emergente. \nA organização está a cargo da entidade DATERRA\, dedicada a soluções em Serviços\, Formação\, Consultoria e Projetos\, desenvolvidas para capacitar agricultores\, técnicos e empresas na adoção de práticas inovadoras e sustentáveis. \nNa Hubel Verde temos vindo a desenvolver e inovar na aplicação via drone para fertilização e sementeiras\, pelo que faz todo o sentido a participação e recolha de ainda mais conhecimento nesta área em franco desenvolvimento a nível nacional e europeu.
URL:https://hubel.pt/evento/euro-tech-day-drone-spraying-crop-protection/
LOCATION:Quinta da Pacheca\, Rua do Relógio do Sol 261\, Lamego\, 5100-424\, Portugal
CATEGORIES:Hubel Verde
END:VEVENT
END:VCALENDAR