BEGIN:VCALENDAR
VERSION:2.0
PRODID:-//Grupo Hubel - ECPv6.9.0//NONSGML v1.0//EN
CALSCALE:GREGORIAN
METHOD:PUBLISH
X-ORIGINAL-URL:https://hubel.pt
X-WR-CALDESC:Events for Grupo Hubel
REFRESH-INTERVAL;VALUE=DURATION:PT1H
X-Robots-Tag:noindex
X-PUBLISHED-TTL:PT1H
BEGIN:VTIMEZONE
TZID:UTC
BEGIN:STANDARD
TZOFFSETFROM:+0000
TZOFFSETTO:+0000
TZNAME:UTC
DTSTART:20260101T000000
END:STANDARD
END:VTIMEZONE
BEGIN:VEVENT
DTSTART;TZID=UTC:20260429T160000
DTEND;TZID=UTC:20260429T183000
DTSTAMP:20260425T153319
CREATED:20260402T103037Z
LAST-MODIFIED:20260402T103037Z
UID:11025-1777478400-1777487400@hubel.pt
SUMMARY:Colóquio Wisecrop & ACOS | 42ª Ovibeja
DESCRIPTION:A Wisecrop e ACOS – Associação de Agricultores do Sul\, promovem no próximo dia 29 de Abril\, na 42ª Ovibeja\, um colóquio sob o tema “Inovação e Digitalização no Campo”.\nNo seguimento da estreita relação estabelecida nos últimos anos com a Wisecrop\, a Hubel Verde foi convidada a participar numa mesa redonda dedicada à temática\, para apresentação de casos práticos e debate entre profissionais da área. \nO evento está previsto para o período da tarde\, entre as 16h00 e 18h30.
URL:https://hubel.pt/evento/coloquio-wisecrop-acos-42a-ovibeja/
LOCATION:Parque de Feiras e Exposições de Beja\, Beja\, Portugal
CATEGORIES:Hubel Verde
END:VEVENT
END:VCALENDAR